BEGIN:VCALENDAR
VERSION:2.0
PRODID:-//ChamberMaster//Event Calendar 2.0//EN
METHOD:PUBLISH
X-PUBLISHED-TTL:P3D
REFRESH-INTERVAL:P3D
CALSCALE:GREGORIAN
BEGIN:VEVENT
DTSTART:20181212T000000Z
DTEND:20181212T020000Z
X-MICROSOFT-CDO-ALLDAYEVENT:FALSE
SUMMARY:Special Needs Bowling Night
DESCRIPTION:Individuals with special needs and their families are invited to the Cullman Area Special Needs Bowling Nights\, every Tuesday from 6-8 p.m. at the Cullman Bowling Center. Please RSVP before 12 noon the days of the events. The charge is $3 per person. For more information\, contact Rhonda at 256-962-2208.
X-ALT-DESC;FMTTYPE=text/html:Individuals with special needs and their families are invited to the Cullman Area Special Needs Bowling Nights\, every Tuesday from 6-8 p.m. at the Cullman Bowling Center. Please RSVP before 12 noon the days of the events. The charge is $3 per person. For more information\, contact Rhonda at 256-962-2208.
LOCATION:
UID:e.1722.15375
SEQUENCE:3
DTSTAMP:20260420T095926Z
URL:https://business.cullmanchamber.org/events/details/special-needs-bowling-night-12-11-2018-15375
END:VEVENT

END:VCALENDAR
