BEGIN:VCALENDAR
VERSION:2.0
PRODID:-//ChamberMaster//Event Calendar 2.0//EN
METHOD:PUBLISH
X-PUBLISHED-TTL:P3D
REFRESH-INTERVAL:P3D
CALSCALE:GREGORIAN
BEGIN:VEVENT
DTSTART:20201107T160000Z
DTEND:20201107T220000Z
X-MICROSOFT-CDO-ALLDAYEVENT:FALSE
SUMMARY:Art With A Soul at Moss Rock Festival
DESCRIPTION:Explore nature\, smart living\, art + design at Alabama's premier eco-creative festival in its 12th year at the Preserve. Innovation\, Imagination and fun await the 10\,000 visitors. This event features 100 artists whose work celebrates nature or use recycled supplies. I will be there in my boho art booth with my "Funny Farm Animals" and my "Recycled Art".
X-ALT-DESC;FMTTYPE=text/html:Explore nature\, smart living\, art + design at Alabama&#39\;s premier eco-creative festival in its 12th year at the Preserve. Innovation\, Imagination and fun await the 10\,000 visitors. This event features 100 artists whose work celebrates nature or use recycled supplies. I will be there in my boho art booth with my &quot\;Funny Farm Animals&quot\; and my &quot\;Recycled Art&quot\;.&nbsp\;
LOCATION:616 Preserve Parkway Hoover\, AL 35226
UID:e.1722.20489
SEQUENCE:3
DTSTAMP:20260420T082833Z
URL:https://business.cullmanchamber.org/events/details/moss-rock-festival-11-07-2020-20489
END:VEVENT

END:VCALENDAR
