BEGIN:VCALENDAR
VERSION:2.0
PRODID:-//ChamberMaster//Event Calendar 2.0//EN
METHOD:PUBLISH
X-PUBLISHED-TTL:P3D
REFRESH-INTERVAL:P3D
CALSCALE:GREGORIAN
BEGIN:VEVENT
DTSTART:20260513T140000Z
DTEND:20260513T150000Z
X-MICROSOFT-CDO-ALLDAYEVENT:FALSE
SUMMARY:Maximize Your Membership
DESCRIPTION:Are you making the most of your Chamber membership? Whether you're a new member or a long-time supporter\, join us for Maximize Your Membership sponsored by EvaBank. This is an informative session designed to help you take full advantage of the benefits\, connections\, and opportunities available to you.\nThis event is free to attend and open to all Chamber members. Whether you're looking to increase visibility\, build relationships\, or explore new business tools\, this session will give you the roadmap to success!\n\n  RSVP today and start making your Membership work for you!
X-ALT-DESC;FMTTYPE=text/html:<span style="font-family:verdana\;"><span style="font-size:16px\;">Are you making the most of your Chamber membership? Whether you&#39\;re a new member or a long-time supporter\, join us for <strong data-end="316" data-start="288">Maximize Your Membership sponsored by EvaBank. </strong>This is an informative session designed to help you take full advantage of the benefits\, connections\, and opportunities available to you.</span></span>\n<p data-end="1080" data-start="867"><span style="font-family:verdana\;"><span style="font-size:16px\;">This event is free to attend and open to all Chamber members. Whether you&#39\;re looking to increase visibility\, build relationships\, or explore new business tools\, this session will give you the roadmap to success!</span></span></p>\n\n<p data-end="1148" data-start="1082"><span style="font-family:verdana\;"><span style="font-size:16px\;">&#128226\; <strong data-end="1146" data-start="1085">RSVP today and start making your Membership work for you!</strong></span></span></p>\n
LOCATION:Cullman Area Chamber of Commerce
UID:e.1722.23956
SEQUENCE:3
DTSTAMP:20260423T224813Z
URL:https://business.cullmanchamber.org/events/details/maximize-your-membership-23956
END:VEVENT

END:VCALENDAR
