BEGIN:VCALENDAR
VERSION:2.0
PRODID:-//ChamberMaster//Event Calendar 2.0//EN
METHOD:PUBLISH
X-PUBLISHED-TTL:P3D
REFRESH-INTERVAL:P3D
CALSCALE:GREGORIAN
BEGIN:VEVENT
DTSTART;VALUE=DATE:20240518
DTEND;VALUE=DATE:20240519
TRANSP:TRANSPARENT
X-MICROSOFT-CDO-ALLDAYEVENT:TRUE
SUMMARY:Dinner on First
DESCRIPTION:We are thrilled to announce that the Dinner on First table auction is officially open! This is your opportunity to secure your spot at the much-anticipated dinner event.\n\n\n\nDinner on First is more than just an event\; it's a symbol of the Cullman community's unity and dedication to improving the lives of its youngest residents. The dinner offers a splendid moment for residents to connect with friends\, neighbors\, and the dedicated members of the  Cullman Parks & Recreation Foundation Board. It's a night to remember\, not only for the gourmet dinner and live music but for the extraordinary lengths the community goes to support a meaningful cause.\n\n\n\nNow is your chance to be part of this year's unforgettable experience. Place your bid\, win your table or seat\, and prepare for an evening of exquisite dining and delightful company. Bidding ends April 17 at 11:00 PM.\n\n\n\nYour participation not only guarantees you a seat at the dinner but also supports the 2024 fundraising efforts of the Cullman Parks & Recreation Foundation in the expansion of the playground and splash pad at Heritage Park to create a more inclusive space for our community. This expansion will allow more families to enjoy the facilities together and will include additional accessible features\, ensuring that everyone\, regardless of age or ability\, can join in the fun.\n\n\n\nVisit the auction site now to learn more and start bidding and ensure your place at the table. We can't wait to welcome you back for another memorable Dinner on First.
X-ALT-DESC;FMTTYPE=text/html:<span style="font-size:16px"><span style="font-family:aptos\,sans-serif">We are thrilled to announce that the Dinner on First table auction is officially open! This is your opportunity to secure your spot at the much-anticipated dinner event.<br />\n<br />\nDinner on First is more than just an event\; it&#39\;s a symbol of the Cullman community&#39\;s unity and dedication to improving the lives of its youngest residents. The dinner offers a splendid moment for residents to connect with friends\, neighbors\, and the dedicated members of the&nbsp\;&nbsp\;Cullman Parks &amp\; Recreation Foundation Board. It&#39\;s a night to remember\, not only for the gourmet dinner and live music but for the extraordinary lengths the community goes to support a meaningful cause.<br />\n<br />\nNow is your chance to be part of this year&#39\;s unforgettable experience. Place your bid\, win your table or seat\, and prepare for an evening of exquisite dining and delightful company. Bidding ends April 17 at 11:00 PM.<br />\n<br />\nYour participation not only guarantees you a seat at the dinner but also supports the 2024 fundraising efforts of the Cullman Parks &amp\; Recreation Foundation in the expansion of the playground and splash pad at Heritage Park to create a more inclusive space for our community. This expansion will allow more families to enjoy the facilities together and will include additional accessible features\, ensuring that everyone\, regardless of age or ability\, can join in the fun.<br />\n<br />\nVisit the auction site now to learn more and start bidding and ensure your place at the table. We can&#39\;t wait to welcome you back for another memorable Dinner on First.</span></span>
LOCATION:Dinner on 1st
UID:e.1722.23077
SEQUENCE:3
DTSTAMP:20260420T145343Z
URL:https://business.cullmanchamber.org/events/details/dinner-on-first-23077
END:VEVENT

END:VCALENDAR
