BEGIN:VCALENDAR
VERSION:2.0
PRODID:-//ChamberMaster//Event Calendar 2.0//EN
METHOD:PUBLISH
X-PUBLISHED-TTL:P3D
REFRESH-INTERVAL:P3D
CALSCALE:GREGORIAN
BEGIN:VEVENT
DTSTART:20260518T200000Z
DTEND:20260518T220000Z
X-MICROSOFT-CDO-ALLDAYEVENT:FALSE
SUMMARY:Cup O' Community: Baileyton
DESCRIPTION:Join us for a casual networking event bringing together local leaders and community members. Enjoy a free cup of coffee and connect\, collaborate\, and share ideas! Karma's Coffee House will be onsite.\n\n\n\nFirst 25 cups of coffee are free\, sponsored by Peoples Bank of Alabama.\n\n\n\nMeet us at Peoples Bank of Alabama!\n\n12081 AL-69 Suite D\, Baileyton\, AL 35019
X-ALT-DESC;FMTTYPE=text/html:<span style="font-size:20px\;"><span style="font-family:verdana\;">Join us for a casual networking event bringing together local leaders and community members. Enjoy a free cup of coffee and connect\, collaborate\, and share ideas! Karma&#39\;s Coffee House will be onsite.<br />\n<br />\nFirst 25 cups of coffee are free\, sponsored by <strong>Peoples Bank of Alabama.</strong><br />\n<br />\nMeet us at<strong>&nbsp\;</strong></span></span><span style="font-family: verdana\; font-size: 20px\;">Peoples Bank of Alabama!</span><br style="font-family: verdana\; font-size: 20px\;" />\n<span style="font-family: verdana\; font-size: 20px\;">12081 AL-69 Suite D\, Baileyton\, AL 35019</span>
LOCATION:Peoples Bank of Alabama 12081 AL-69 Suite D\, Baileyton\, AL 35019
UID:e.1722.23958
SEQUENCE:3
DTSTAMP:20260423T224010Z
URL:https://business.cullmanchamber.org/events/details/cup-o-community-baileyton-23958
END:VEVENT

END:VCALENDAR
