BEGIN:VCALENDAR
VERSION:2.0
PRODID:-//ChamberMaster//Event Calendar 2.0//EN
METHOD:PUBLISH
X-PUBLISHED-TTL:P3D
REFRESH-INTERVAL:P3D
CALSCALE:GREGORIAN
BEGIN:VEVENT
DTSTART:20260501T210000Z
DTEND:20260501T220000Z
X-MICROSOFT-CDO-ALLDAYEVENT:FALSE
SUMMARY:4 O'Clock Somewhere
DESCRIPTION:4 O'Clock Somewhere  \n\n  Friday\, May 1st at 4:00 PM\n\n  Wissota Chophouse at Cobblestone Hotel & Suites\n\nIt's always 4 o'clock somewhere and at the Cullman Area Chamber of Commerce\, that means it's time to gather\, connect\, and unwind!\n\nJoin us for 4 O'Clock Somewhere\, a casual networking series where we'll meet at a local Chamber-Member restaurant at 4:00 PM on select Fridays.\n\n\n\nhis is your chance to:\n\n  Support our incredible Chamber restaurants\n\n  Network in a casual space\n\n  Kick off the weekend with great conversation\, food\, and fun\n\nThere's no formal program - just friendly faces\, casual connections\, and community pride. Mark your calendar\, bring a colleague or friend\, and come hungry to support local!
X-ALT-DESC;FMTTYPE=text/html:<p data-end="184" data-start="93"><span style="font-size:16px\;"><strong data-end="120" data-start="97">4 O&rsquo\;Clock Somewhere</strong> &#10024\;<br data-end="127" data-start="124" />\n&#128197\; Friday\, May 1st at 4:00 PM<br data-end="151" data-start="148" />\n&#128205\; Wissota Chophouse at Cobblestone Hotel &amp\; Suites</span></p>\n\n<p data-end="319" data-start="186"><span style="font-size:16px\;">It&rsquo\;s always 4 o&rsquo\;clock somewhere and at the Cullman Area Chamber of Commerce\, that means it&rsquo\;s time to gather\, connect\, and unwind!</span></p>\n\n<p data-end="663" data-start="321"><span style="font-size:16px\;">Join us for <strong data-end="356" data-start="333">4 O&rsquo\;Clock Somewhere</strong>\, a casual networking series where we&rsquo\;ll meet at a local <strong data-end="442" data-start="413">Chamber-Member restaurant</strong> at 4:00 PM on select Fridays.<br />\n<br />\nhis is your chance to:<br data-end="499" data-start="496" />\n&#9989\; Support our incredible Chamber&nbsp\;restaurants<br data-end="546" data-start="543" />\n&#9989\; Network in a casual space<br data-end="600" data-start="597" />\n&#9989\; Kick off the weekend with great conversation\, food\, and fun</span></p>\n\n<p data-end="839" data-start="665"><span style="font-size:16px\;">There&rsquo\;s no formal program - just friendly faces\, casual connections\, and community pride. Mark your calendar\, bring a colleague or friend\, and come hungry to support local!</span></p>\n
LOCATION:Wissota Chophouse at Cobblestone Hotel & Suites 1835 Main Ave SW\, Cullman\, AL 35055
UID:e.1722.23957
SEQUENCE:3
DTSTAMP:20260423T225549Z
URL:https://business.cullmanchamber.org/events/details/4-o-clock-somewhere-23957
END:VEVENT

END:VCALENDAR
