BEGIN:VCALENDAR
VERSION:2.0
PRODID:-//ChamberMaster//Event Calendar 2.0//EN
METHOD:PUBLISH
X-PUBLISHED-TTL:P3D
REFRESH-INTERVAL:P3D
CALSCALE:GREGORIAN
BEGIN:VEVENT
DTSTART:20250531T220000Z
DTEND:20250601T030000Z
X-MICROSOFT-CDO-ALLDAYEVENT:FALSE
SUMMARY:2025 Relay For Life of Cullman County
DESCRIPTION:The 2025 Relay For Life of Cullman County will take place on Saturday\, May 31\, 2025\, at 5 p.m. at Depot Park in downtown Cullman. The evening will be filled with live entertainment\, food trucks\, children's activities\, vendors and powerful moments of remembrance and celebration   all dedicated to supporting the American Cancer Society's mission.\n\n\n\nTo register\, join a team\, make a donation or for more information\, visit www.relayforlife.org/cullmanal or contact Helen Allen at 256-709-4019 or helenma1941@gmail.com.\n\n\n\nFor more information about the American Cancer Society\, including access to 24/7 assistance\, visit www.cancer.org or call  1-800-227-2345.
X-ALT-DESC;FMTTYPE=text/html:<span style="color: rgb(34\, 34\, 34)\; font-family: Verdana\, BlinkMacSystemFont\, -apple-system\, &quot\;Segoe UI&quot\;\, Roboto\, Oxygen\, Ubuntu\, Cantarell\, &quot\;Open Sans&quot\;\, &quot\;Helvetica Neue&quot\;\, sans-serif\; font-size: 15px\;">The 2025 Relay For Life of Cullman County will take place on Saturday\, May 31\, 2025\, at 5 p.m. at Depot Park in downtown Cullman. The evening will be filled with live entertainment\, food trucks\, children&rsquo\;s activities\, vendors and powerful moments of remembrance and celebration &mdash\; all dedicated to supporting the American Cancer Society&rsquo\;s mission.</span><br style="box-sizing: border-box\; color: rgb(34\, 34\, 34)\; font-family: Verdana\, BlinkMacSystemFont\, -apple-system\, &quot\;Segoe UI&quot\;\, Roboto\, Oxygen\, Ubuntu\, Cantarell\, &quot\;Open Sans&quot\;\, &quot\;Helvetica Neue&quot\;\, sans-serif\; font-size: 15px\;" />\n<br style="box-sizing: border-box\; color: rgb(34\, 34\, 34)\; font-family: Verdana\, BlinkMacSystemFont\, -apple-system\, &quot\;Segoe UI&quot\;\, Roboto\, Oxygen\, Ubuntu\, Cantarell\, &quot\;Open Sans&quot\;\, &quot\;Helvetica Neue&quot\;\, sans-serif\; font-size: 15px\;" />\n<span style="color: rgb(34\, 34\, 34)\; font-family: Verdana\, BlinkMacSystemFont\, -apple-system\, &quot\;Segoe UI&quot\;\, Roboto\, Oxygen\, Ubuntu\, Cantarell\, &quot\;Open Sans&quot\;\, &quot\;Helvetica Neue&quot\;\, sans-serif\; font-size: 15px\;">To register\, join a team\, make a donation or for more information\, visit&nbsp\;</span><a href="http://www.relayforlife.org/cullmanal" rel="noreferrer noopener" style="box-sizing: border-box\; color: var(--td_theme_color\, #4db2ec)\; text-decoration-line: none\; font-family: Verdana\, BlinkMacSystemFont\, -apple-system\, &quot\;Segoe UI&quot\;\, Roboto\, Oxygen\, Ubuntu\, Cantarell\, &quot\;Open Sans&quot\;\, &quot\;Helvetica Neue&quot\;\, sans-serif\; font-size: 15px\;" target="_blank">www.relayforlife.org/cullmanal</a><span style="color: rgb(34\, 34\, 34)\; font-family: Verdana\, BlinkMacSystemFont\, -apple-system\, &quot\;Segoe UI&quot\;\, Roboto\, Oxygen\, Ubuntu\, Cantarell\, &quot\;Open Sans&quot\;\, &quot\;Helvetica Neue&quot\;\, sans-serif\; font-size: 15px\;">&nbsp\;or contact Helen Allen at 256-709-4019 or&nbsp\;</span><a href="mailto:helenma1941@gmail.com" rel="noreferrer noopener" style="box-sizing: border-box\; color: var(--td_theme_color\, #4db2ec)\; text-decoration-line: none\; font-family: Verdana\, BlinkMacSystemFont\, -apple-system\, &quot\;Segoe UI&quot\;\, Roboto\, Oxygen\, Ubuntu\, Cantarell\, &quot\;Open Sans&quot\;\, &quot\;Helvetica Neue&quot\;\, sans-serif\; font-size: 15px\;" target="_blank">helenma1941@gmail.com</a><span style="color: rgb(34\, 34\, 34)\; font-family: Verdana\, BlinkMacSystemFont\, -apple-system\, &quot\;Segoe UI&quot\;\, Roboto\, Oxygen\, Ubuntu\, Cantarell\, &quot\;Open Sans&quot\;\, &quot\;Helvetica Neue&quot\;\, sans-serif\; font-size: 15px\;">.</span><br style="box-sizing: border-box\; color: rgb(34\, 34\, 34)\; font-family: Verdana\, BlinkMacSystemFont\, -apple-system\, &quot\;Segoe UI&quot\;\, Roboto\, Oxygen\, Ubuntu\, Cantarell\, &quot\;Open Sans&quot\;\, &quot\;Helvetica Neue&quot\;\, sans-serif\; font-size: 15px\;" />\n<br style="box-sizing: border-box\; color: rgb(34\, 34\, 34)\; font-family: Verdana\, BlinkMacSystemFont\, -apple-system\, &quot\;Segoe UI&quot\;\, Roboto\, Oxygen\, Ubuntu\, Cantarell\, &quot\;Open Sans&quot\;\, &quot\;Helvetica Neue&quot\;\, sans-serif\; font-size: 15px\;" />\n<span style="color: rgb(34\, 34\, 34)\; font-family: Verdana\, BlinkMacSystemFont\, -apple-system\, &quot\;Segoe UI&quot\;\, Roboto\, Oxygen\, Ubuntu\, Cantarell\, &quot\;Open Sans&quot\;\, &quot\;Helvetica Neue&quot\;\, sans-serif\; font-size: 15px\;">For more information about the American Cancer Society\, including access to 24/7 assistance\, visit&nbsp\;</span><a href="http://www.cancer.org/" rel="noreferrer noopener" style="box-sizing: border-box\; color: var(--td_theme_color\, #4db2ec)\; text-decoration-line: none\; font-family: Verdana\, BlinkMacSystemFont\, -apple-system\, &quot\;Segoe UI&quot\;\, Roboto\, Oxygen\, Ubuntu\, Cantarell\, &quot\;Open Sans&quot\;\, &quot\;Helvetica Neue&quot\;\, sans-serif\; font-size: 15px\;" target="_blank">www.cancer.org</a><span style="color: rgb(34\, 34\, 34)\; font-family: Verdana\, BlinkMacSystemFont\, -apple-system\, &quot\;Segoe UI&quot\;\, Roboto\, Oxygen\, Ubuntu\, Cantarell\, &quot\;Open Sans&quot\;\, &quot\;Helvetica Neue&quot\;\, sans-serif\; font-size: 15px\;">&nbsp\;or call &nbsp\;1-800-227-2345.</span>
LOCATION:Depot Park
UID:e.1722.23175
SEQUENCE:3
DTSTAMP:20260422T210925Z
URL:https://business.cullmanchamber.org/events/details/2025-relay-for-life-of-cullman-county-23175
END:VEVENT

END:VCALENDAR
